BEGIN:VCALENDAR
PRODID:-//AT Content Types//AT Event//EN
VERSION:2.0
METHOD:PUBLISH
BEGIN:VEVENT
DTSTAMP:20260421T203307Z
CREATED:20180109T143557Z
UID:ATEvent-95ea7fb369ff46fa9d330c1909a6c0f3
LAST-MODIFIED:20220804T144628Z
SUMMARY:Nuovi canali di finanziamento per le imprese
DTSTART:20180503T080000Z
DTEND:20180503T110000Z
DESCRIPTION:L'incontro ha il fine di esplorare i principali canali e s
 trumenti di finanziamento innovativi e complementari al sistema bancar
 io che le imprese possono usare a sostegno delle proprie esigenze.
LOCATION:- Assolombarda Confindustria Milano Monza e Brianza - Sala Erba (piano interrato) - Via Pantano 9\, Milano
CONTACT:fin@assolombarda.it
URL:https://www.assolombarda.it/servizi/credito-finanza-e-incentivi/appuntamenti/nuovi-canali-di-finanziamento-per-le-imprese-1
CLASS:PUBLIC
END:VEVENT
END:VCALENDAR
