BEGIN:VCALENDAR
PRODID:-//AT Content Types//AT Event//EN
VERSION:2.0
METHOD:PUBLISH
BEGIN:VEVENT
DTSTAMP:20260421T203526Z
CREATED:20190130T111245Z
UID:ATEvent-16e28db65f6e4f0e8f5f74a4ade3a729
LAST-MODIFIED:20220804T144635Z
SUMMARY:Nuovi canali di finanziamento - Collegamento in streaming dal Presidio di Monza
DTSTART:20190408T080000Z
DTEND:20190408T110000Z
DESCRIPTION:L'incontro ha il fine di esplorare i principali canali e s
 trumenti di finanziamento innovativi e complementari al sistema bancar
 io che le imprese possono usare a sostegno delle proprie esigenze.
LOCATION:Assolombarda – Sala 4 (piano terra) – Viale Francesco Petrarca 10\, Monza
URL:https://www.assolombarda.it/servizi/credito-finanza-e-incentivi/appuntamenti/nuovi-canali-di-finanziamento-collegamento-in-streaming-dal-presidio-di-monza
CLASS:PUBLIC
END:VEVENT
END:VCALENDAR
