BEGIN:VCALENDAR
PRODID:-//AT Content Types//AT Event//EN
VERSION:2.0
METHOD:PUBLISH
BEGIN:VEVENT
DTSTAMP:20260421T205958Z
CREATED:20141218T152844Z
UID:ATEvent-02139fa2160f80934a2a62b670182b32
LAST-MODIFIED:20220804T144632Z
SUMMARY:Misurare il valore per essere competitivi. L'integrated reporting
DTSTART:20150225T090000Z
DTEND:20150225T120000Z
DESCRIPTION:L’incontro ha la finalità di voler trasmettere come la 
 trasparenza nella rendicontazione sia un veicolo importante per ricost
 ruire la fiducia lungo tutta la catena del valore.
LOCATION:- Assolombarda - Sala Bracco (piano interrato) - Via Chiaravalle 8\, Milano
CONTACT:fin@assolombarda.it
URL:https://www.assolombarda.it/servizi/credito-finanza-e-incentivi/appuntamenti/misurare-il-valore-per-essere-competitivi.-lintegrated-reporting
CLASS:PUBLIC
END:VEVENT
END:VCALENDAR
