BEGIN:VCALENDAR
PRODID:-//AT Content Types//AT Event//EN
VERSION:2.0
METHOD:PUBLISH
BEGIN:VEVENT
DTSTAMP:20260421T203547Z
CREATED:20190123T161306Z
UID:ATEvent-b98e4e888a6c4025b6e2f089ebbcde18
LAST-MODIFIED:20220804T144626Z
SUMMARY:Mission Start Up: gli incentivi di Invitalia e i servizi di Assolombarda per le start up innovative
DTSTART:20190225T133000Z
DTEND:20190225T160000Z
DESCRIPTION:Durante l'incontro saranno approfonditi gli incentivi gest
 iti da Invitalia - Agenzia nazionale per l’attrazione degli investim
 enti e lo sviluppo d'impresa - e i servizi dell'Area Credito e Finanza
  e dello Start up Desk di Assolombarda.
LOCATION:- Assolombarda - Sala Falck (piano interrato) - Via Chiaravalle 8\, Milano
CONTACT:fin@assolombarda.it
URL:https://www.assolombarda.it/servizi/credito-finanza-e-incentivi/appuntamenti/mission-start-up-gli-incentivi-di-invitalia-e-i-servizi-di-assolombarda-per-le-start-up-innovative
CLASS:PUBLIC
END:VEVENT
END:VCALENDAR
