BEGIN:VCALENDAR
PRODID:-//AT Content Types//AT Event//EN
VERSION:2.0
METHOD:PUBLISH
BEGIN:VEVENT
DTSTAMP:20260421T193514Z
CREATED:20140807T123455Z
UID:ATEvent-e3136d813054c3694fa436af1d2f5ce8
LAST-MODIFIED:20220804T144632Z
SUMMARY:MINIBOND: un corso e una consulenza gratuiti da scoprire per emissioni low cost
DTSTART:20140918T083000Z
DTEND:20140918T103000Z
DESCRIPTION:L'incontro sarà l'occasione per approfondire il tema dei 
 minibond e presentare il primo corso di formazione gratuito\, riservat
 o a CFO e imprenditori.
LOCATION:- Assolombarda - Sala Camerana (6° piano) - Via Pantano 9\, Milano
CONTACT:fin@assolombarda.it
URL:https://www.assolombarda.it/servizi/credito-finanza-e-incentivi/appuntamenti/minibond-un-corso-e-una-consulenza-gratuiti-da-scoprire-per-emissioni-low-cost
CLASS:PUBLIC
END:VEVENT
END:VCALENDAR
