BEGIN:VCALENDAR
PRODID:-//AT Content Types//AT Event//EN
VERSION:2.0
METHOD:PUBLISH
BEGIN:VEVENT
DTSTAMP:20260421T202825Z
CREATED:20180911T145108Z
UID:ATEvent-c5c055026f5242728ef5e155a3a7e3e3
LAST-MODIFIED:20220804T144621Z
SUMMARY:Medie Imprese: obiettivo crescita - I nuovi strumenti di finanza complementare
DTSTART:20180927T150000Z
DTEND:20180927T170000Z
DESCRIPTION:Ciclo di incontri dedicati alle Medie Imprese
LOCATION:- Assolombarda - Sala Camerana (6° piano) - Via Pantano 9\, Milano
URL:https://www.assolombarda.it/servizi/credito-finanza-e-incentivi/appuntamenti/medie-imprese-obiettivo-crescita-i-nuovi-strumenti-di-finanza-complementare
CLASS:PUBLIC
END:VEVENT
END:VCALENDAR
