BEGIN:VCALENDAR
PRODID:-//AT Content Types//AT Event//EN
VERSION:2.0
METHOD:PUBLISH
BEGIN:VEVENT
DTSTAMP:20260421T191404Z
CREATED:20181203T142951Z
UID:ATEvent-9106d1bb13354e53aae7b302045c10cc
LAST-MODIFIED:20220804T144626Z
SUMMARY:Life 2019: contributi europei a sostegno di progetti innovativi con positivo impatto ambientale
DTSTART:20190507T123000Z
DTEND:20190507T153000Z
DESCRIPTION:Dall'Europa un bando che sostiene progetti pilota o dimost
 rativi\, sulla tutela ambientale\, conservazione della natura e azioni
  per il clima.
LOCATION:- Assolombarda - Sala Falck (piano interrato) - Via Chiaravalle 8\, Milano
URL:https://www.assolombarda.it/servizi/credito-finanza-e-incentivi/appuntamenti/life-2019-contributi-europei-a-sostegno-di-progetti-innovativi
CLASS:PUBLIC
END:VEVENT
END:VCALENDAR
