BEGIN:VCALENDAR
PRODID:-//AT Content Types//AT Event//EN
VERSION:2.0
METHOD:PUBLISH
BEGIN:VEVENT
DTSTAMP:20260421T173838Z
CREATED:20210902T082312Z
UID:ATEvent-e99289169575401dad41948f18936311
LAST-MODIFIED:20220804T144624Z
SUMMARY:Le società benefit: scopriamole assieme!
DTSTART:20210921T140000Z
DTEND:20210921T160000Z
DESCRIPTION:Un nuovo modello aziendale per un nuovo modo di fare impre
 sa: le società benefit attirano sempre più l’interesse di imprendi
 tori che intendono coniugare lo scopo del profitto con quello del bene
 ficio comune\, generando valore presso tutti i propri stakeholder.
LOCATION:Incontro online
URL:https://www.assolombarda.it/servizi/credito-finanza-e-incentivi/appuntamenti/le-societa-benefit-scopriamole-assieme
CLASS:PUBLIC
END:VEVENT
END:VCALENDAR
