BEGIN:VCALENDAR
PRODID:-//AT Content Types//AT Event//EN
VERSION:2.0
METHOD:PUBLISH
BEGIN:VEVENT
DTSTAMP:20260421T175037Z
CREATED:20201118T082032Z
UID:ATEvent-bbe60f1392b041c2affcdb8b85b3ecb4
LAST-MODIFIED:20220804T144619Z
SUMMARY:Le previsioni economico finanziarie al tempo del Covid: il peso delle incognite e la difficoltà di decidere
DTSTART:20201210T133000Z
DTEND:20201210T150000Z
DESCRIPTION:Il webinar ha l’obiettivo di presentare\, sinteticamente
  e operativamente\, le accortezze da considerare nella definizione del
 le strategie d’azienda\, nella pianificazione e nel dialogo con gli 
 stakeholder.
LOCATION:Incontro online
URL:https://www.assolombarda.it/servizi/credito-finanza-e-incentivi/appuntamenti/le-previsioni-al-tempo-del-covid-il-peso-delle-incognite-e-la-difficolta-di-decidere
CLASS:PUBLIC
END:VEVENT
END:VCALENDAR
