BEGIN:VCALENDAR
PRODID:-//AT Content Types//AT Event//EN
VERSION:2.0
METHOD:PUBLISH
BEGIN:VEVENT
DTSTAMP:20260421T191441Z
CREATED:20190619T091307Z
UID:ATEvent-4856d097dc3c46d1add11393d2898fca
LAST-MODIFIED:20220804T144624Z
SUMMARY:Le novità della regolamentazione finanziaria europea
DTSTART:20190703T080000Z
DTEND:20190703T110000Z
DESCRIPTION:Le nuove regole di gestione delle posizioni inadempienti n
 el rapporto banca-impresa (definizione di default) e la finanza sosten
 ibile.
LOCATION:Factory NoLo - Viale Monza 4\, Milano
URL:https://www.assolombarda.it/servizi/credito-finanza-e-incentivi/appuntamenti/le-novita-della-regolamentazione-finanziaria-europea
CLASS:PUBLIC
END:VEVENT
END:VCALENDAR
