BEGIN:VCALENDAR
PRODID:-//AT Content Types//AT Event//EN
VERSION:2.0
METHOD:PUBLISH
BEGIN:VEVENT
DTSTAMP:20260421T191312Z
CREATED:20190628T104659Z
UID:ATEvent-fbecc58697cc4d40bdd9e301f23e13c8
LAST-MODIFIED:20220804T144619Z
SUMMARY:Le migliori opportunità in un mondo che cambia
DTSTART:20190711T104500Z
DTEND:20190711T133000Z
LOCATION:- Assolombarda Confindustria Milano Monza e Brianza - Sala Congressi (piano interrato) - Viale Francesco Petrarca 10\, Monza
URL:https://www.assolombarda.it/servizi/credito-finanza-e-incentivi/appuntamenti/le-migliori-opportunita-in-un-mondo-che-cambia
CLASS:PUBLIC
END:VEVENT
END:VCALENDAR
