BEGIN:VCALENDAR
PRODID:-//AT Content Types//AT Event//EN
VERSION:2.0
METHOD:PUBLISH
BEGIN:VEVENT
DTSTAMP:20260421T180223Z
CREATED:20200917T131515Z
UID:ATEvent-1cb0a549545940c58d1cdee16f65f1a0
LAST-MODIFIED:20220804T144625Z
SUMMARY:Le migliori agevolazioni per la ripartenza: dalle agevolazioni per la liquidità ai bandi per l’innovazione
DTSTART:20201005T073000Z
DTEND:20201005T090000Z
DESCRIPTION:Durante l’incontro saranno illustrate\, in modo ragionat
 o\, le diverse opportunità per la ripartenza post Covid-19.
LOCATION:Webinar
URL:https://www.assolombarda.it/servizi/credito-finanza-e-incentivi/appuntamenti/le-migliori-agevolazioni-per-la-ripartenza-dalle-agevolazioni-per-la-liquidita-ai-bandi-per-l2019innovazione
CLASS:PUBLIC
END:VEVENT
END:VCALENDAR
