BEGIN:VCALENDAR
PRODID:-//AT Content Types//AT Event//EN
VERSION:2.0
METHOD:PUBLISH
BEGIN:VEVENT
DTSTAMP:20260421T190022Z
CREATED:20200207T113618Z
UID:ATEvent-a19c397b99aa4ec68e8b661ff4f5f0d7
LAST-MODIFIED:20220804T144625Z
SUMMARY:Le migliori agevolazioni del primo semestre 2020 - In videoconferenza con il Presidio di Monza
DTSTART:20200220T083000Z
DTEND:20200220T103000Z
DESCRIPTION:Una panoramica degli incentivi attivi e che verranno attiv
 ati nel corso del primo semestre 2020\, per piccole e medie Imprese de
 l settore manifatturiero e dei servizi che intendono investire in prog
 etti di ricerca\, sviluppo e internazionalizzazione e che vogliono svi
 luppare il proprio business.
LOCATION:- Videoconferenza: Viale Francesco Petrarca 10\, Monza
URL:https://www.assolombarda.it/servizi/credito-finanza-e-incentivi/appuntamenti/le-migliori-agevolazioni-del-primo-semestre-2020
CLASS:PUBLIC
END:VEVENT
END:VCALENDAR
