BEGIN:VCALENDAR
PRODID:-//AT Content Types//AT Event//EN
VERSION:2.0
METHOD:PUBLISH
BEGIN:VEVENT
DTSTAMP:20260421T214620Z
CREATED:20170731T084022Z
UID:ATEvent-9974ab583aa148c993afa9cd0a19fc11
LAST-MODIFIED:20220804T144625Z
SUMMARY:L'Analisi di Bilancio: richiamo ai principi fondamentali del bilancio e della riclassificazione e analisi
DTSTART:20171011T080000Z
DTEND:20171011T110000Z
DESCRIPTION:Alla luce delle evoluzioni normative che hanno impattato s
 ulla redazione e sulle strutture di bilancio\, l'incontro ha l’obiet
 tivo di aiutare le piccole e medie imprese a leggere\, a comprendere e
  analizzare i propri bilanci per migliorare la conoscenza delle perfor
 mance della propria azienda e comunicare meglio con i propri finanziat
 ori.
LOCATION:- Assolombarda Confindustria Milano Monza e Brianza - Sala Falck (piano interrato) - Via Chiaravalle 8\, Milano
CONTACT:fin@assolombarda.it
URL:https://www.assolombarda.it/servizi/credito-finanza-e-incentivi/appuntamenti/lanalisi-di-bilancio-richiamo-ai-principi-fondamentali-del-bilancio-e-della-riclassificazione-e-analisi
CLASS:PUBLIC
END:VEVENT
END:VCALENDAR
