BEGIN:VCALENDAR
PRODID:-//AT Content Types//AT Event//EN
VERSION:2.0
METHOD:PUBLISH
BEGIN:VEVENT
DTSTAMP:20260421T214127Z
CREATED:20161221T122824Z
UID:ATEvent-293cd0bf2b12490c9c1be9570da3a6c1
LAST-MODIFIED:20220804T144624Z
SUMMARY:L'analisi di bilancio per non addetti
DTSTART:20170323T090000Z
DTEND:20170323T120000Z
DESCRIPTION:Alla luce delle evoluzioni normative che impatteranno sull
 a redazione e sulle strutture di bilancio\, l'incontro ha l’obiettiv
 o di aiutare le piccole e medie imprese a leggere\, a comprendere e an
 alizzare i propri bilanci per migliorare la conoscenza delle performan
 ce della propria azienda e comunicare meglio con i propri finanziatori
 .
LOCATION:- Assolombarda Confindustria Milano Monza e Brianza - Sala Congressi (piano interrato) - Viale Francesco Petrarca 10\, Monza
CONTACT:fin@assolombarda.it
URL:https://www.assolombarda.it/servizi/credito-finanza-e-incentivi/appuntamenti/lanalisi-di-bilancio-per-non-addetti
CLASS:PUBLIC
END:VEVENT
END:VCALENDAR
