BEGIN:VCALENDAR
PRODID:-//AT Content Types//AT Event//EN
VERSION:2.0
METHOD:PUBLISH
BEGIN:VEVENT
DTSTAMP:20260421T201947Z
CREATED:20181203T130957Z
UID:ATEvent-b3e5b443d92f4ac486987590b84af1ad
LAST-MODIFIED:20220804T144628Z
SUMMARY:L'analisi di bilancio e rendiconto finanziario
DTSTART:20190218T090000Z
DTEND:20190218T120000Z
DESCRIPTION:Momento pratico di conoscenza e comprensione della situazi
 one economico finanziaria della propria impresa al fine di aumentare l
 a consapevolezza delle proprie decisioni.
LOCATION:- Assolombarda - Sala Falck (piano interrato) - Via Chiaravalle 8\, Milano
URL:https://www.assolombarda.it/servizi/credito-finanza-e-incentivi/appuntamenti/lanalisi-di-bilancio-e-rendiconto-finanziario
CLASS:PUBLIC
END:VEVENT
END:VCALENDAR
