BEGIN:VCALENDAR
PRODID:-//AT Content Types//AT Event//EN
VERSION:2.0
METHOD:PUBLISH
BEGIN:VEVENT
DTSTAMP:20260421T202653Z
CREATED:20190128T104706Z
UID:ATEvent-e1ce2b398fda42faabf34104c4886db4
LAST-MODIFIED:20220804T144635Z
SUMMARY:L'analisi di bilancio e rendiconto finanziario - Collegamento in streaming dal Presidio di Monza
DTSTART:20190218T090000Z
DTEND:20190218T120000Z
DESCRIPTION:Momento pratico di conoscenza e comprensione della situazi
 one economico finanziaria della propria impresa al fine di aumentare l
 a consapevolezza delle proprie decisioni.
LOCATION:Assolombarda Confindustria Milano\, Monza e Brianza\, Lodi - Sala 1 (piano terra) - Viale Francesco Petrarca 10\, Monza
URL:https://www.assolombarda.it/servizi/credito-finanza-e-incentivi/appuntamenti/lanalisi-di-bilancio-e-rendiconto-finanziario-collegamento-in-streaming-dal-presidio-di-monza
CLASS:PUBLIC
END:VEVENT
END:VCALENDAR
