BEGIN:VCALENDAR
PRODID:-//AT Content Types//AT Event//EN
VERSION:2.0
METHOD:PUBLISH
BEGIN:VEVENT
DTSTAMP:20260421T201953Z
CREATED:20180619T074608Z
UID:ATEvent-ad4f664c5210442c978ab1f0085512b3
LAST-MODIFIED:20220804T144629Z
SUMMARY:L'analisi di bilancio e il rendiconto finanziario
DTSTART:20180918T080000Z
DTEND:20180918T110000Z
DESCRIPTION:Momento pratico di conoscenza e comprensione della situazi
 one economico finanziaria della propria impresa al fine di aumentare l
 a consapevolezza delle proprie decisioni.
LOCATION:Assolombarda Confindustria Milano\, Monza e Brianza\, Lodi - Sala 1 (piano terra) - Viale Francesco Petrarca 10\, Monza
URL:https://www.assolombarda.it/servizi/credito-finanza-e-incentivi/appuntamenti/lanalisi-di-bilancio-e-il-rendiconto-finanziario
CLASS:PUBLIC
END:VEVENT
END:VCALENDAR
