BEGIN:VCALENDAR
PRODID:-//AT Content Types//AT Event//EN
VERSION:2.0
METHOD:PUBLISH
BEGIN:VEVENT
DTSTAMP:20260421T215145Z
CREATED:20160201T121238Z
UID:ATEvent-334d02029e2c33b675886eee20245d7d
LAST-MODIFIED:20220804T144634Z
SUMMARY:La ripresa\, e se toccasse a noi? XX Rapporto Einaudi sull'economia globale e l'Italia
DTSTART:20160211T163000Z
DTEND:20160211T183000Z
DESCRIPTION:Assolombarda Confindustria Milano Monza e Brianza in colla
 borazione con il Gruppoi UBI - Banca Popolare di Bergamo e il Centro L
 uigi Einaudi presenta il XX Rapporto Einaudi.
LOCATION:- Assolombarda Confindustria Milano Monza e Brianza - Sala Congressi (piano interrato) - Viale Francesco Petrarca 10\, Monza
URL:https://www.assolombarda.it/servizi/credito-finanza-e-incentivi/appuntamenti/la-ripresa-e-se-toccasse-a-noi-xx-rapporto-einaudi-sulleconomia-globale-e-litalia
CLASS:PUBLIC
END:VEVENT
END:VCALENDAR
