BEGIN:VCALENDAR
PRODID:-//AT Content Types//AT Event//EN
VERSION:2.0
METHOD:PUBLISH
BEGIN:VEVENT
DTSTAMP:20260421T181451Z
CREATED:20121204T102118Z
UID:ATEvent-9fb61eb2a2e07496c5e2759bb50c9263
LAST-MODIFIED:20220804T144630Z
SUMMARY:SEPA: per un'economia intelligente in grado di aumentare l'efficienza aziendale
DTSTART:20130321T090000Z
DTEND:20130321T120000Z
DESCRIPTION:La migrazione alla SEPA e l'end date del 1/2/2014: siamo p
 ronti per la SEPA?
LOCATION:- Assolombarda - Sala Falck (piano interrato) - Via Chiaravalle 8\, Milano
CONTACT:fin@assolombarda.it
URL:https://www.assolombarda.it/servizi/credito-finanza-e-incentivi/appuntamenti/la-migrazione-alla-sepa-e-lend-date-del-1-2-2014-un-progetto-per-limpresa
CLASS:PUBLIC
END:VEVENT
END:VCALENDAR
