BEGIN:VCALENDAR
PRODID:-//AT Content Types//AT Event//EN
VERSION:2.0
METHOD:PUBLISH
BEGIN:VEVENT
DTSTAMP:20260421T181117Z
CREATED:20121204T105938Z
UID:ATEvent-912cfaf7845781867a5a6d94af967cdd
LAST-MODIFIED:20220804T144630Z
SUMMARY:La gestione dei rischi e le coperture assicurative
DTSTART:20130417T100000Z
DTEND:20130417T130000Z
DESCRIPTION:Incontro informativo gratuito sulla gestione del rischio e
  la copertura assicurativa.
LOCATION:- Assolombarda - Sala Falck (piano interrato) - Via Chiaravalle 8\, Milano
CONTACT:fin@assolombarda.it
URL:https://www.assolombarda.it/servizi/credito-finanza-e-incentivi/appuntamenti/la-gestione-dei-rischi-e-le-coperture-assicurative
CLASS:PUBLIC
END:VEVENT
END:VCALENDAR
