BEGIN:VCALENDAR
PRODID:-//AT Content Types//AT Event//EN
VERSION:2.0
METHOD:PUBLISH
BEGIN:VEVENT
DTSTAMP:20260421T203358Z
CREATED:20180410T093617Z
UID:ATEvent-e79237e4fab54f97aa49578001cf32d3
LAST-MODIFIED:20220804T144628Z
SUMMARY:La crescita delle imprese italiane
DTSTART:20180510T143000Z
DTEND:20180510T170000Z
DESCRIPTION:Competitività\, internazionalizzazione e finanza.
LOCATION:- Assolombarda - Sala Falck (piano interrato) - Via Chiaravalle 8\, Milano
CONTACT:fin@assolombarda.it
URL:https://www.assolombarda.it/servizi/credito-finanza-e-incentivi/appuntamenti/la-crescita-delle-imprese-italiane
CLASS:PUBLIC
END:VEVENT
END:VCALENDAR
