BEGIN:VCALENDAR
PRODID:-//AT Content Types//AT Event//EN
VERSION:2.0
METHOD:PUBLISH
BEGIN:VEVENT
DTSTAMP:20260421T210055Z
CREATED:20150720T104416Z
UID:ATEvent-428c76043ef53aa535cb8d7d20bbc02f
LAST-MODIFIED:20220804T144633Z
SUMMARY:La comunicazione finanziaria oggi
DTSTART:20151014T080000Z
DTEND:20151014T110000Z
DESCRIPTION:Inserito all'interno del ciclo di 5 incontri del corso gra
 tuito Executive Bancopass\, inziativa che anche il Ministero dello Svi
 luppo Economico ha deciso di sostenere rilasciando il proprio patrocin
 io\, l'incontro ha l’obiettivo di aiutare le piccole e medie imprese
  a comprendere come devono far conoscere e raccontare il proprio busin
 ess\, utilizzando senza indugi e senza eccessi anche strumenti volonta
 ri\, che possano permettere di comunicare efficacemente\, concretament
 e e semplicemente il proprio valore.
LOCATION:- Assolombarda Confindustria Milano Monza e Brianza - Sala Falck (piano interrato) - Via Chiaravalle 8\, Milano
CONTACT:fin@assolombarda.it
URL:https://www.assolombarda.it/servizi/credito-finanza-e-incentivi/appuntamenti/la-comunicazione-finanziaria-oggi
CLASS:PUBLIC
END:VEVENT
END:VCALENDAR
