BEGIN:VCALENDAR
PRODID:-//AT Content Types//AT Event//EN
VERSION:2.0
METHOD:PUBLISH
BEGIN:VEVENT
DTSTAMP:20260421T214251Z
CREATED:20160715T081954Z
UID:ATEvent-3c42a9c86c5848cb992cfd23329978f9
LAST-MODIFIED:20220804T144623Z
SUMMARY:La comunicazione finanziaria oggi
DTSTART:20160927T080000Z
DTEND:20160927T110000Z
DESCRIPTION:L'incontro ha l'obiettivo di aiutare le piccole e medie im
 prese a comprendere come devono far conoscere e raccontare il proprio 
 business\, utilizzando senza indugi e senza eccessi anche strumenti vo
 lontari\, che possono permettere di comunicare efficacemente\, concret
 amente e semplicemente il proprio valore
LOCATION:- Assolombarda Confindustria Milano Monza e Brianza - Sala Bracco (piano interrato) - Via Chiaravalle 8\, Milano
CONTACT:fin@assolombarda.it
URL:https://www.assolombarda.it/servizi/credito-finanza-e-incentivi/appuntamenti/la-comunicazione-finanziaria-oggi-2
CLASS:PUBLIC
END:VEVENT
END:VCALENDAR
