BEGIN:VCALENDAR
PRODID:-//AT Content Types//AT Event//EN
VERSION:2.0
METHOD:PUBLISH
BEGIN:VEVENT
DTSTAMP:20260421T193430Z
CREATED:20131023T132307Z
UID:ATEvent-1f276a4e897127bd8a9209490f7ad5dd
LAST-MODIFIED:20220804T144631Z
SUMMARY:La centrale rischi: istruzioni per l'uso
DTSTART:20131114T090000Z
DTEND:20131114T120000Z
DESCRIPTION:Analizzare in dettaglio informazioni\, contenuti e variabi
 li della centrale dei rischi senza diventare degli esperti del settore
 . Saper leggere le informazioni in essa contenute è molto utile per p
 oter eventualmente influenzare i propri comportamenti e sapere che ad 
 azione corrisponde quasi sempre reazione.
LOCATION:- Assolombarda - Sala Falck (piano interrato) - Via Chiaravalle 8\, Milano
CONTACT:fin@assolombarda.it
URL:https://www.assolombarda.it/servizi/credito-finanza-e-incentivi/appuntamenti/la-centrale-rischi-istruzioni-per-luso
CLASS:PUBLIC
END:VEVENT
END:VCALENDAR
