BEGIN:VCALENDAR
PRODID:-//AT Content Types//AT Event//EN
VERSION:2.0
METHOD:PUBLISH
BEGIN:VEVENT
DTSTAMP:20260421T174411Z
CREATED:20200907T090119Z
UID:ATEvent-596200396b4f41d6a4d3482908565513
LAST-MODIFIED:20220804T144625Z
SUMMARY:L’Assicurazione al tempo del Covid-19
DTSTART:20200923T140000Z
DTEND:20200923T153000Z
DESCRIPTION:Assolombarda in collaborazione con AIBA - Associazione Bro
 ker di Assicurazione e Contro Assicurazione - promuove un webinar con 
 l'obiettivo di aggiornare gli imprenditori e i risk manager sull’imp
 atto della crisi dovuta al Covid sul sistema Italia e sulla conseguent
 e evoluzione della domanda assicurativa.
LOCATION:Incontro online
URL:https://www.assolombarda.it/servizi/credito-finanza-e-incentivi/appuntamenti/l2019assicurazione-al-tempo-del-covid-2013-19
CLASS:PUBLIC
END:VEVENT
END:VCALENDAR
