BEGIN:VCALENDAR
PRODID:-//AT Content Types//AT Event//EN
VERSION:2.0
METHOD:PUBLISH
BEGIN:VEVENT
DTSTAMP:20260421T203254Z
CREATED:20180109T115522Z
UID:ATEvent-01190caab78740e98d52c4f97c63ba3e
LAST-MODIFIED:20220804T144620Z
SUMMARY:L’analisi di bilancio e il rendiconto finanziario
DTSTART:20180307T090000Z
DTEND:20180307T120000Z
DESCRIPTION:E' POSSIBILE COMUNQUE SEGUIRE IL COLLEGAMENTO IN STREAMING
 \, segnalando la propria mail a fin@assolombarda.it per ricevere il li
 nk e successivamente il materiale.
LOCATION:- Assolombarda - Sala Falck (piano interrato) - Via Chiaravalle 8\, Milano
CONTACT:fin@assolombarda.it
URL:https://www.assolombarda.it/servizi/credito-finanza-e-incentivi/appuntamenti/l2019analisi-di-bilancio-e-rendiconto-finanziario
CLASS:PUBLIC
END:VEVENT
END:VCALENDAR
