BEGIN:VCALENDAR
PRODID:-//AT Content Types//AT Event//EN
VERSION:2.0
METHOD:PUBLISH
BEGIN:VEVENT
DTSTAMP:20260422T235251Z
CREATED:20191008T101547Z
UID:ATEvent-9b3ec66d36d840f5957b51089a39c573
LAST-MODIFIED:20220804T144623Z
SUMMARY:L’analisi di bilancio e il rendiconto finanziario
DTSTART:20191023T083000Z
DTEND:20191023T110000Z
DESCRIPTION:Momento pratico di conoscenza e comprensione della situazi
 one economico-finanziaria della propria impresa al fine di aumentare l
 a consapevolezza delle proprie decisioni.
LOCATION:- Assolombarda - Sala Falck (piano interrato) - Via Chiaravalle 8\, Milano
URL:https://www.assolombarda.it/servizi/credito-finanza-e-incentivi/appuntamenti/l2019analisi-di-bilancio-e-il-rendiconto-finanziario
CLASS:PUBLIC
END:VEVENT
END:VCALENDAR
