BEGIN:VCALENDAR
PRODID:-//AT Content Types//AT Event//EN
VERSION:2.0
METHOD:PUBLISH
BEGIN:VEVENT
DTSTAMP:20260423T012315Z
CREATED:20191009T122249Z
UID:ATEvent-5554a84246aa4250937d96489b4439fe
LAST-MODIFIED:20220804T144621Z
SUMMARY:L’analisi di bilancio e il rendiconto finanziario - Collegamento in streaming dal Presidio di Monza
DTSTART:20191023T083000Z
DTEND:20191023T110000Z
DESCRIPTION:Momento pratico di conoscenza e comprensione della situazi
 one economico-finanziaria della propria impresa al fine di aumentare l
 a consapevolezza delle proprie decisioni.
LOCATION:Assolombarda Confindustria Milano\, Monza e Brianza\, Lodi - Sala 1 (piano terra) - Viale Francesco Petrarca 10\, Monza
URL:https://www.assolombarda.it/servizi/credito-finanza-e-incentivi/appuntamenti/l2019analisi-di-bilancio-e-il-rendiconto-finanziario-1
CLASS:PUBLIC
END:VEVENT
END:VCALENDAR
