BEGIN:VCALENDAR
PRODID:-//AT Content Types//AT Event//EN
VERSION:2.0
METHOD:PUBLISH
BEGIN:VEVENT
DTSTAMP:20260421T191326Z
CREATED:20190709T152550Z
UID:ATEvent-6db52b9154ad48e09b4bbb5ec7405884
LAST-MODIFIED:20220804T144626Z
SUMMARY:Qualità dell'Aria ed Economia Circolare: nuovi contributi a fondo perduto per le pmi
DTSTART:20190723T080000Z
DTEND:20190723T100000Z
DESCRIPTION:Incontro informativo nel quale si presenteranno due nuovi 
 bandi della Camera di Commercio di Milano Monza Brianza Lodi ed altre 
 opportunità per la green economy.
LOCATION:- Assolombarda - Sala Bracco (piano interrato) - Via Chiaravalle 8\, Milano
URL:https://www.assolombarda.it/servizi/credito-finanza-e-incentivi/appuntamenti/incontro-informativo-sulla-presentazione-bandi-camera-di-commercio-di-milano-monza-brianza-lodi
CLASS:PUBLIC
END:VEVENT
END:VCALENDAR
