BEGIN:VCALENDAR
PRODID:-//AT Content Types//AT Event//EN
VERSION:2.0
METHOD:PUBLISH
BEGIN:VEVENT
DTSTAMP:20260421T203721Z
CREATED:20181203T114325Z
UID:ATEvent-4178d8055e7240df9419f48e36e51f92
LAST-MODIFIED:20220804T144626Z
SUMMARY:Incontro - 2019: un anno di incentivi per la ricerca\, l'innovazione e l'internazionalizzazione - 24 gennaio ore 14.30
DTSTART:20190124T133000Z
DTEND:20190124T163000Z
DESCRIPTION:Una serie di nuovi incentivi regionali e nazionali sono o 
 saranno a breve a disposizione di pmi e grandi imprese con stanziament
 o complessivo di oltre 100 milioni di euro.
LOCATION:- Assolombarda - Sala Falck (piano interrato) - Via Chiaravalle 8\, Milano
URL:https://www.assolombarda.it/servizi/credito-finanza-e-incentivi/appuntamenti/incontro-2019-un-anno-di-incentivi-per-la-ricerca-linnovazione-e-linternazionalizzazione-24-gennaio-ore-1430
CLASS:PUBLIC
END:VEVENT
END:VCALENDAR
