BEGIN:VCALENDAR
PRODID:-//AT Content Types//AT Event//EN
VERSION:2.0
METHOD:PUBLISH
BEGIN:VEVENT
DTSTAMP:20260421T214042Z
CREATED:20180109T151101Z
UID:ATEvent-759c332e9b304252918423cc186621a3
LAST-MODIFIED:20220804T144626Z
SUMMARY:Conferme e anticipazioni: focus su incentivi per l'internazionalizzazione e innovazione per le pmi
DTSTART:20180321T093000Z
DTEND:20180321T113000Z
DESCRIPTION:Durante l'incontro sarà fornita una panoramica sui miglio
 ri incentivi utilizzabili\, in particolare per fiere e missioni all'es
 tero.
LOCATION:- Assolombarda Confindustria Milano Monza e Brianza - Sala Congressi (piano interrato) - Viale Francesco Petrarca 10\, Monza
CONTACT:fin@assolombarda.it
URL:https://www.assolombarda.it/servizi/credito-finanza-e-incentivi/appuntamenti/incentivi-per-r-s
CLASS:PUBLIC
END:VEVENT
END:VCALENDAR
