BEGIN:VCALENDAR
PRODID:-//AT Content Types//AT Event//EN
VERSION:2.0
METHOD:PUBLISH
BEGIN:VEVENT
DTSTAMP:20260421T210427Z
CREATED:20141218T172158Z
UID:ATEvent-2a76b1c4b7aeee415b9f4ab4a78941e3
LAST-MODIFIED:20220804T144627Z
SUMMARY:I nuovi incentivi regionali per l'innovazione: fondo di rotazione e open innovation
DTSTART:20150212T090000Z
DTEND:20150212T113000Z
DESCRIPTION:Incontro informativo di approfondimento su due nuovi bandi
  che incentivano e finanziano l’innovazione per le pmi. Il programma
  dell'incontro è in fase di completamento.
LOCATION:- Assolombarda - Sala Falck (piano interrato) - Via Chiaravalle 8\, Milano
CONTACT:fin@assolombarda.it
URL:https://www.assolombarda.it/servizi/credito-finanza-e-incentivi/appuntamenti/incentivi-per-linnovazione-incontro-sulle-principali-agevolazioni-regionali
CLASS:PUBLIC
END:VEVENT
END:VCALENDAR
