BEGIN:VCALENDAR
PRODID:-//AT Content Types//AT Event//EN
VERSION:2.0
METHOD:PUBLISH
BEGIN:VEVENT
DTSTAMP:20260421T210906Z
CREATED:20141218T172812Z
UID:ATEvent-84ce0f9a055cfbfbf6e7a99a51c81a55
LAST-MODIFIED:20220804T144627Z
SUMMARY:Incentivi per l'innovazione: incontro di approfondimento sulle principali agevolazioni nazionali
DTSTART:20150325T090000Z
DTEND:20150325T120000Z
DESCRIPTION:Durante l’incontro saranno approfonditi i bandi minister
 iali che incentivano e finanziano l’innovazione.
LOCATION:- Assolombarda - Sala Falck (piano interrato) - Via Chiaravalle 8\, Milano
CONTACT:fin@assolombarda.it
URL:https://www.assolombarda.it/servizi/credito-finanza-e-incentivi/appuntamenti/incentivi-per-linnovazione-incontro-di-approfondimento-sulle-principali-agevolazioni-nazionali
CLASS:PUBLIC
END:VEVENT
END:VCALENDAR
