BEGIN:VCALENDAR
PRODID:-//AT Content Types//AT Event//EN
VERSION:2.0
METHOD:PUBLISH
BEGIN:VEVENT
DTSTAMP:20260421T210259Z
CREATED:20141218T173652Z
UID:ATEvent-398891598f1e8cc3943f8dbf9ab89cd1
LAST-MODIFIED:20220804T144627Z
SUMMARY:Incentivi per l'innovazione: incontro di approfondimento sui nuovi incentivi per le imprese innovative
DTSTART:20150624T080000Z
DTEND:20150624T110000Z
DESCRIPTION:Durante l’incontro saranno date delle anticipazioni sull
 e opportunità di finanza agevolata per il secondo semestre 2015.
LOCATION:- Assolombarda - Sala Falck (piano interrato) - Via Chiaravalle 8\, Milano
CONTACT:fin@assolombarda.it
URL:https://www.assolombarda.it/servizi/credito-finanza-e-incentivi/appuntamenti/incentivi-per-linnovazione-incontro-di-approfondimento-sui-nuovi-incentivi-per-le-imprese-innovative
CLASS:PUBLIC
END:VEVENT
END:VCALENDAR
