BEGIN:VCALENDAR
PRODID:-//AT Content Types//AT Event//EN
VERSION:2.0
METHOD:PUBLISH
BEGIN:VEVENT
DTSTAMP:20260421T165541Z
CREATED:20120404T123514Z
UID:ATEvent-5b9f9c39899f198d1970d8a74749a3cd
LAST-MODIFIED:20220804T144630Z
SUMMARY:Impresa oltre la crisi: servizi di affiancamento e ristrutturazione del debito
DTSTART:20120327T120000Z
DTEND:20120327T150000Z
DESCRIPTION:Durante il workshop verranno illustrati gli strumenti e i 
 supporti che Assolombarda mette a disposizione per le imprese in crisi
  temporanea e reversibile.
LOCATION:- Assolombarda - Sala Falck (piano interrato) - Via Chiaravalle 8\, Milano
URL:https://www.assolombarda.it/servizi/credito-finanza-e-incentivi/appuntamenti/impresa-oltre-la-crisi-servizi-di-affiancamento-e-ristrutturazione-del-debito
CLASS:PUBLIC
END:VEVENT
END:VCALENDAR
