BEGIN:VCALENDAR
PRODID:-//AT Content Types//AT Event//EN
VERSION:2.0
METHOD:PUBLISH
BEGIN:VEVENT
DTSTAMP:20260421T165348Z
CREATED:20120316T161019Z
UID:ATEvent-152f56f05db57acc789cbaeb8fd18bcf
LAST-MODIFIED:20220804T144630Z
SUMMARY:Impresa in rete e Banca per crescere
DTSTART:20120131T133000Z
DTEND:20120131T170000Z
DESCRIPTION:Assolombarda\, RetImpresa e BNL Gruppo BNP Paribas voglion
 o informare gli imprenditori sulle potenzialità del contratto di rete
  e sugli strumenti specifici  della Banca a supporto delle aggregazion
 i.
LOCATION:- Assolombarda - Auditorium Gio Ponti (piano interrato) - Via Pantano 9\, Milano
URL:https://www.assolombarda.it/servizi/credito-finanza-e-incentivi/appuntamenti/impresa-in-rete-e-banca-per-crescere
CLASS:PUBLIC
END:VEVENT
END:VCALENDAR
