BEGIN:VCALENDAR
PRODID:-//AT Content Types//AT Event//EN
VERSION:2.0
METHOD:PUBLISH
BEGIN:VEVENT
DTSTAMP:20260421T174006Z
CREATED:20210222T144003Z
UID:ATEvent-b663bb0c204342e29590ea6583d95418
LAST-MODIFIED:20220804T144635Z
SUMMARY:Il vantaggio del rafforzamento patrimoniale e gli strumenti fiscali e finanziari a supporto delle imprese
DTSTART:20210419T123000Z
DTEND:20210419T143000Z
DESCRIPTION:Se nella prima fase dell’emergenza le banche hanno svolt
 o un ruolo fondamentale per fornire liquidità alle imprese\, nella fa
 se della ripresa dovranno essere utilizzati strumenti diversificati pe
 r supportare gli investimenti e riequilibrare la leva finanziaria dell
 e imprese.
LOCATION:Incontro online
URL:https://www.assolombarda.it/servizi/credito-finanza-e-incentivi/appuntamenti/il-vantaggio-del-rafforzamento-patrimoniale-e-gli-strumenti-fiscali-e-finanziari-a-supporto
CLASS:PUBLIC
END:VEVENT
END:VCALENDAR
