BEGIN:VCALENDAR
PRODID:-//AT Content Types//AT Event//EN
VERSION:2.0
METHOD:PUBLISH
BEGIN:VEVENT
DTSTAMP:20260421T181111Z
CREATED:20120719T142327Z
UID:ATEvent-9ca5c2a7da77900a919ec9e0df1fc351
LAST-MODIFIED:20220804T144630Z
SUMMARY:Il Reporting integrato
DTSTART:20121004T080000Z
DTEND:20121004T110000Z
DESCRIPTION:Performance economiche\, sociali e ambientali in un unico 
 strumento di comunicazione.
LOCATION:- Assolombarda - Sala Bracco (piano interrato) - Via Chiaravalle 8\, Milano
CONTACT:fin@assolombarda.it
URL:https://www.assolombarda.it/servizi/credito-finanza-e-incentivi/appuntamenti/il-reporting-integrato
CLASS:PUBLIC
END:VEVENT
END:VCALENDAR
