BEGIN:VCALENDAR
PRODID:-//AT Content Types//AT Event//EN
VERSION:2.0
METHOD:PUBLISH
BEGIN:VEVENT
DTSTAMP:20260421T210433Z
CREATED:20150903T072141Z
UID:ATEvent-a5824b77a5f0fe2117c9885a3e674491
LAST-MODIFIED:20220804T144633Z
SUMMARY:Il Reporting Integrato. Come costruire una rendicontazione non solo finanziaria a misura di investitore
DTSTART:20150916T080000Z
DTEND:20150916T110000Z
DESCRIPTION:L’incontro ha la finalità di voler trasmettere come la 
 trasparenza nella rendicontazione sia un veicolo importante per ricost
 ruire la fiducia lungo tutta la catena del valore.
LOCATION:- Assolombarda - Sala Meregalli (piano interrato) - Via Pantano 9\, Milano
CONTACT:fin@assolombarda.it
URL:https://www.assolombarda.it/servizi/credito-finanza-e-incentivi/appuntamenti/il-reporting-integrato.-come-costruire-una-rendicontazione-non-solo-finanziaria-a-misura-di-investitore
CLASS:PUBLIC
END:VEVENT
END:VCALENDAR
