BEGIN:VCALENDAR
PRODID:-//AT Content Types//AT Event//EN
VERSION:2.0
METHOD:PUBLISH
BEGIN:VEVENT
DTSTAMP:20260421T181150Z
CREATED:20121008T115324Z
UID:ATEvent-46c0e10ef1d0e107a402d04b4eb04d6b
LAST-MODIFIED:20220804T144630Z
SUMMARY:Il Reporting integrato - II edizione
DTSTART:20121029T090000Z
DTEND:20121029T120000Z
DESCRIPTION:Performance economiche\, sociali e ambientali in un unico 
 strumento di comunicazione.
LOCATION:- Assolombarda - Sala Bracco (piano interrato) - Via Chiaravalle 8\, Milano
CONTACT:fin@assolombarda.it
URL:https://www.assolombarda.it/servizi/credito-finanza-e-incentivi/appuntamenti/il-reporting-integrato-ii-edizione
CLASS:PUBLIC
END:VEVENT
END:VCALENDAR
