BEGIN:VCALENDAR
PRODID:-//AT Content Types//AT Event//EN
VERSION:2.0
METHOD:PUBLISH
BEGIN:VEVENT
DTSTAMP:20260421T175123Z
CREATED:20200910T083451Z
UID:ATEvent-78e6472d5020466e92992729293dda2b
LAST-MODIFIED:20220804T144629Z
SUMMARY:Il rating:  da pretesto a strumento di analisi interna e di confronto con il sistema finanziario
DTSTART:20201001T073000Z
DTEND:20201001T090000Z
DESCRIPTION:“E’ colpa del Rating!”. La frase che\, a tutti voi\,
  avranno detto almeno una volta nella vita. Durante il webinar verrann
 o presentati gli strumenti più idonei per comprendere e gestire il ra
 ting e prepararsi alla presentazione dei bilanci 2020.
LOCATION:Incontro online
URL:https://www.assolombarda.it/servizi/credito-finanza-e-incentivi/appuntamenti/il-rating-da-pretesto-a-strumento-di-analisi-interna-e-di-confronto-con-il-sistema-finanziario
CLASS:PUBLIC
END:VEVENT
END:VCALENDAR
