BEGIN:VCALENDAR
PRODID:-//AT Content Types//AT Event//EN
VERSION:2.0
METHOD:PUBLISH
BEGIN:VEVENT
DTSTAMP:20260421T210426Z
CREATED:20150623T074909Z
UID:ATEvent-9329cf42098e7cd58d4a0eb89c207c10
LAST-MODIFIED:20220804T144633Z
SUMMARY:Il rating come fattore di supporto nelle fasi di crescita dell'impresa
DTSTART:20150707T080000Z
DTEND:20150707T110000Z
DESCRIPTION:Nel nuovo contesto competitivo lasciato in eredità dalla 
 crisi finanziaria\, le imprese - soprattutto quelle di piccole e medie
  dimensioni - devono essere in grado di comunicare e negoziare tutti g
 li aspetti dell'offerta di impresa inclusi quelli relativi alla propri
 a affidabilità creditizia. Per crescere\, anche e soprattutto all'est
 ero\, l'affidabilità creditizia diviene determinante tanto quanto la 
 capacità di competere sul prodotto e sul servizio.
LOCATION:- Assolombarda - Sala Falck (piano interrato) - Via Chiaravalle 8\, Milano
CONTACT:fin@assolombarda.it
URL:https://www.assolombarda.it/servizi/credito-finanza-e-incentivi/appuntamenti/il-rating-come-fattore-di-supporto-nelle-fasi-di-crescita-dellimpresa
CLASS:PUBLIC
END:VEVENT
END:VCALENDAR
