BEGIN:VCALENDAR
PRODID:-//AT Content Types//AT Event//EN
VERSION:2.0
METHOD:PUBLISH
BEGIN:VEVENT
DTSTAMP:20260421T210351Z
CREATED:20150409T084458Z
UID:ATEvent-ba5acb709ac90b9ae0192edeb1cbe9d6
LAST-MODIFIED:20220804T144633Z
SUMMARY:Il rating alle imprese italiane: perché pensarci\, chi può rilasciarlo\, come si fa e cosa si valuta
DTSTART:20150422T083000Z
DTEND:20150422T110000Z
DESCRIPTION:Nel corso dell’incontro Crif Rating Agency illustrerà p
 iù in dettaglio l’utilità di un rating\, l’iter analitico ed i c
 riteri sottostanti la sua emissione.
LOCATION:- Assolombarda - Sala Falck (piano interrato) - Via Chiaravalle 8\, Milano
CONTACT:fin@assolombarda.it
URL:https://www.assolombarda.it/servizi/credito-finanza-e-incentivi/appuntamenti/il-rating-alle-imprese-italiane-perche-pensarci-chi-puo-rilasciarlo-come-si-fa-e-cosa-si-valuta
CLASS:PUBLIC
END:VEVENT
END:VCALENDAR
