BEGIN:VCALENDAR
PRODID:-//AT Content Types//AT Event//EN
VERSION:2.0
METHOD:PUBLISH
BEGIN:VEVENT
DTSTAMP:20260421T193138Z
CREATED:20131216T113131Z
UID:ATEvent-666613d32a17e31a16cde40f40169c40
LAST-MODIFIED:20220804T144631Z
SUMMARY:Il mondo dei rischi in chiaro: la terminologia del mondo assicurativo
DTSTART:20140220T090000Z
DTEND:20140220T120000Z
DESCRIPTION:L’incontro mira a fornire informazioni utili e terminolo
 gie adeguate per comprendere il mondo delle assicurazioni.
LOCATION:- Assolombarda - Sala Bianchi (4° piano) - Via Pantano 9\, Milano
CONTACT:fin@assolombarda.it
URL:https://www.assolombarda.it/servizi/credito-finanza-e-incentivi/appuntamenti/il-mondo-dei-rischi...in-chiaro
CLASS:PUBLIC
END:VEVENT
END:VCALENDAR
