BEGIN:VCALENDAR
PRODID:-//AT Content Types//AT Event//EN
VERSION:2.0
METHOD:PUBLISH
BEGIN:VEVENT
DTSTAMP:20260421T210120Z
CREATED:20150901T101900Z
UID:ATEvent-7a8eb65ec6f41fd23fc7a00196c7840d
LAST-MODIFIED:20220804T144627Z
SUMMARY:Il credito d'imposta e gli strumenti finanziari per la ricerca
DTSTART:20150915T070000Z
DTEND:20150915T110000Z
DESCRIPTION:Il convegno nasce dall’impegno dell’Università degli 
 Studi di Milano Bicocca\, Assolombarda e Ordine dei Dottori Commercial
 isti e degli Esperti Contabili di Milano\, per sostenere la collaboraz
 ione fra le imprese ed il mondo accademico.
LOCATION:Auditorium Bicocca - Edificio U12 - Via Vizzola 12\, Milano
URL:https://www.assolombarda.it/servizi/credito-finanza-e-incentivi/appuntamenti/il-credito-dimposta-e-gli-strumenti-finanziari-per-la-ricerca
CLASS:PUBLIC
END:VEVENT
END:VCALENDAR
