BEGIN:VCALENDAR
PRODID:-//AT Content Types//AT Event//EN
VERSION:2.0
METHOD:PUBLISH
BEGIN:VEVENT
DTSTAMP:20260421T181641Z
CREATED:20120802T092305Z
UID:ATEvent-3b6c795819b6b4e9cde6e20c28f96b76
LAST-MODIFIED:20220804T144630Z
SUMMARY:Il Budget previsionale: gli effetti sulla cassa e i benefici per la liquidità aziendale
DTSTART:20121130T090000Z
DTEND:20121130T120000Z
DESCRIPTION:Un approccio operativo alla predisposizione del budget e a
 lla corretta gestione dei flussi di cassa aziendali.
LOCATION:- Assolombarda - Sala Bracco (piano interrato) - Via Chiaravalle 8\, Milano
CONTACT:fin@assolombarda.it
URL:https://www.assolombarda.it/servizi/credito-finanza-e-incentivi/appuntamenti/il-budget-previsionale-gli-effetti-sulla-cassa-e-i-benefici-per-la-liquidita-aziendale
CLASS:PUBLIC
END:VEVENT
END:VCALENDAR
