BEGIN:VCALENDAR
PRODID:-//AT Content Types//AT Event//EN
VERSION:2.0
METHOD:PUBLISH
BEGIN:VEVENT
DTSTAMP:20260421T165226Z
CREATED:20120316T151646Z
UID:ATEvent-f8e7d25b9466a74b648caa7101b19a77
LAST-MODIFIED:20220804T144630Z
SUMMARY:Il bilancio per non addetti
DTSTART:20120208T090000Z
DTEND:20120208T120000Z
DESCRIPTION:L'incontro ha la finalità di fornire nozioni di base util
 i per leggere e comprendere il bilancio\, i principali documenti che n
 e integrano le informazioni ed effettuare le prime valutazioni sulla s
 truttura economico-finanziaria dell’impresa. Inoltre verrà illustra
 to come partendo dai dati di bilancio è possibile trarre informazioni
  significative sulla realtà aziendale\, attraverso le correlazioni tr
 a voci\, le principali riclassificazioni e l’analisi per indici.
LOCATION:- Assolombarda - Sala Falck (piano interrato) - Via Chiaravalle 8\, Milano
URL:https://www.assolombarda.it/servizi/credito-finanza-e-incentivi/appuntamenti/il-bilancio-per-non-addetti
CLASS:PUBLIC
END:VEVENT
END:VCALENDAR
