BEGIN:VCALENDAR
PRODID:-//AT Content Types//AT Event//EN
VERSION:2.0
METHOD:PUBLISH
BEGIN:VEVENT
DTSTAMP:20260421T210014Z
CREATED:20150720T112639Z
UID:ATEvent-a147f83a4ce9acab45583d807e225e61
LAST-MODIFIED:20220804T144633Z
SUMMARY:I rischi aziendali: come individuarli e mitigarli
DTSTART:20151216T090000Z
DTEND:20151216T120000Z
DESCRIPTION:Inserito all'interno del ciclo di 5 incontri del corso gra
 tuito Executive Bancopass\, inziativa che anche il Ministero dello Svi
 luppo Economico ha deciso di sostenere rilasciando il proprio patrocin
 io\, l’incontro ha l’obiettivo di fornire delle indicazioni su com
 e le imprese devono considerare i rischi e cercare di anticiparli e/o 
 governarli.
LOCATION:- Assolombarda Confindustria Milano Monza e Brianza - Sala Falck (piano interrato) - Via Chiaravalle 8\, Milano
CONTACT:fin@assolombarda.it
URL:https://www.assolombarda.it/servizi/credito-finanza-e-incentivi/appuntamenti/i-rischi-aziendali-come-individuarli-e-mitigarli
CLASS:PUBLIC
END:VEVENT
END:VCALENDAR
