BEGIN:VCALENDAR
PRODID:-//AT Content Types//AT Event//EN
VERSION:2.0
METHOD:PUBLISH
BEGIN:VEVENT
DTSTAMP:20260421T214312Z
CREATED:20161221T102803Z
UID:ATEvent-b6b3c837c9a64ad087b9aa97ec860d5f
LAST-MODIFIED:20220804T144626Z
SUMMARY:I nuovi incentivi regionali per il 2017: acquisto macchinari e liquidità
DTSTART:20170125T150000Z
DTEND:20170125T170000Z
DESCRIPTION:Durante l'incontro saranno illustrati i nuovi incentivi pe
 r acquisto di macchinari e liquìdità.\nAlla fine è previsto un mome
 nto di networking tra i partecipanti e gli esperti di Assolombarda.
LOCATION:- Assolombarda Confindustria Milano Monza e Brianza - Sala Congressi (piano interrato) - Viale Francesco Petrarca 10\, Monza
CONTACT:fin@assolombarda.it
URL:https://www.assolombarda.it/servizi/credito-finanza-e-incentivi/appuntamenti/i-nuovi-incentivi-regionali-per-il-2017-acquisto-macchinari-e-liquidita
CLASS:PUBLIC
END:VEVENT
END:VCALENDAR
